BEGIN:VCALENDAR
VERSION:2.0
PRODID:-//CAVIT - ECPv6.15.17.1//NONSGML v1.0//EN
CALSCALE:GREGORIAN
METHOD:PUBLISH
X-ORIGINAL-URL:https://www.cavitschools.com
X-WR-CALDESC:Events for CAVIT
REFRESH-INTERVAL;VALUE=DURATION:PT1H
X-Robots-Tag:noindex
X-PUBLISHED-TTL:PT1H
BEGIN:VTIMEZONE
TZID:America/Phoenix
BEGIN:STANDARD
TZOFFSETFROM:-0700
TZOFFSETTO:-0700
TZNAME:MST
DTSTART:20230101T000000
END:STANDARD
END:VTIMEZONE
BEGIN:VEVENT
DTSTART;TZID=America/Phoenix:20240729T080000
DTEND;TZID=America/Phoenix:20240729T170000
DTSTAMP:20260422T074735
CREATED:20240715T230810Z
LAST-MODIFIED:20240715T230810Z
UID:10000002-1722240000-1722272400@www.cavitschools.com
SUMMARY:Calendar Event 2
DESCRIPTION:
URL:https://www.cavitschools.com/event/calendar-event-2
END:VEVENT
END:VCALENDAR