BEGIN:VCALENDAR
VERSION:2.0
PRODID:-//CAVIT - ECPv6.15.17.1//NONSGML v1.0//EN
CALSCALE:GREGORIAN
METHOD:PUBLISH
X-WR-CALNAME:CAVIT
X-ORIGINAL-URL:https://www.cavitschools.com
X-WR-CALDESC:Events for CAVIT
REFRESH-INTERVAL;VALUE=DURATION:PT1H
X-Robots-Tag:noindex
X-PUBLISHED-TTL:PT1H
BEGIN:VTIMEZONE
TZID:America/Phoenix
BEGIN:STANDARD
TZOFFSETFROM:-0700
TZOFFSETTO:-0700
TZNAME:MST
DTSTART:20230101T000000
END:STANDARD
END:VTIMEZONE
BEGIN:VEVENT
DTSTART;TZID=America/Phoenix:20240722T170000
DTEND;TZID=America/Phoenix:20240722T170000
DTSTAMP:20260422T092959
CREATED:20240730T173525Z
LAST-MODIFIED:20240730T173525Z
UID:10000011-1721667600-1721667600@www.cavitschools.com
SUMMARY:Online Enrollment Opens
DESCRIPTION:
URL:https://www.cavitschools.com/event/online-enrollment-opens
END:VEVENT
END:VCALENDAR