BEGIN:VCALENDAR
VERSION:2.0
PRODID:-//CAVIT - ECPv6.15.17.1//NONSGML v1.0//EN
CALSCALE:GREGORIAN
METHOD:PUBLISH
X-ORIGINAL-URL:https://www.cavitschools.com
X-WR-CALDESC:Events for CAVIT
REFRESH-INTERVAL;VALUE=DURATION:PT1H
X-Robots-Tag:noindex
X-PUBLISHED-TTL:PT1H
BEGIN:VTIMEZONE
TZID:America/Phoenix
BEGIN:STANDARD
TZOFFSETFROM:-0700
TZOFFSETTO:-0700
TZNAME:MST
DTSTART:20230101T000000
END:STANDARD
END:VTIMEZONE
BEGIN:VEVENT
DTSTART;VALUE=DATE:20240902
DTEND;VALUE=DATE:20240903
DTSTAMP:20260422T043738
CREATED:20240730T173649Z
LAST-MODIFIED:20240730T173649Z
UID:10000016-1725235200-1725321599@www.cavitschools.com
SUMMARY:Labor Day - No School
DESCRIPTION:
URL:https://www.cavitschools.com/event/labor-day-no-school
END:VEVENT
BEGIN:VEVENT
DTSTART;TZID=America/Phoenix:20240904T100000
DTEND;TZID=America/Phoenix:20240904T100000
DTSTAMP:20260422T043738
CREATED:20240903T175050Z
LAST-MODIFIED:20240903T175050Z
UID:10000059-1725444000-1725444000@www.cavitschools.com
SUMMARY:Board Meeting
DESCRIPTION:
URL:https://www.cavitschools.com/event/board-meeting
END:VEVENT
BEGIN:VEVENT
DTSTART;TZID=America/Phoenix:20240905T180000
DTEND;TZID=America/Phoenix:20240905T180000
DTSTAMP:20260422T043738
CREATED:20240826T211357Z
LAST-MODIFIED:20240826T211357Z
UID:10000051-1725559200-1725559200@www.cavitschools.com
SUMMARY:NTHS Induction Ceremony
DESCRIPTION:
URL:https://www.cavitschools.com/event/nths-induction-ceremony
LOCATION:MPR
END:VEVENT
BEGIN:VEVENT
DTSTART;TZID=America/Phoenix:20240911T080000
DTEND;TZID=America/Phoenix:20240911T080000
DTSTAMP:20260422T043738
CREATED:20240826T211444Z
LAST-MODIFIED:20240826T211444Z
UID:10000052-1726041600-1726041600@www.cavitschools.com
SUMMARY:9/11 Remembrance Ceremony
DESCRIPTION:
URL:https://www.cavitschools.com/event/9-11-remembrance-ceremony
END:VEVENT
BEGIN:VEVENT
DTSTART;VALUE=DATE:20240913
DTEND;VALUE=DATE:20240914
DTSTAMP:20260422T043738
CREATED:20240730T173704Z
LAST-MODIFIED:20240730T173704Z
UID:10000017-1726185600-1726271999@www.cavitschools.com
SUMMARY:CTSO Officer Training
DESCRIPTION:
URL:https://www.cavitschools.com/event/ctso-officer-training
END:VEVENT
BEGIN:VEVENT
DTSTART;VALUE=DATE:20240914
DTEND;VALUE=DATE:20240915
DTSTAMP:20260422T043738
CREATED:20240826T211520Z
LAST-MODIFIED:20240903T181201Z
UID:10000053-1726272000-1726358399@www.cavitschools.com
SUMMARY:Hairstyling Saturday
DESCRIPTION:
URL:https://www.cavitschools.com/event/hairstyling-saturday-3
END:VEVENT
BEGIN:VEVENT
DTSTART;VALUE=DATE:20240917
DTEND;VALUE=DATE:20240918
DTSTAMP:20260422T043738
CREATED:20240920T211315Z
LAST-MODIFIED:20240920T211315Z
UID:10000073-1726531200-1726617599@www.cavitschools.com
SUMMARY:NTHS Meeting
DESCRIPTION:
URL:https://www.cavitschools.com/event/nths-meeting-2
END:VEVENT
BEGIN:VEVENT
DTSTART;VALUE=DATE:20240921
DTEND;VALUE=DATE:20240922
DTSTAMP:20260422T043738
CREATED:20240826T211546Z
LAST-MODIFIED:20240903T180526Z
UID:10000054-1726876800-1726963199@www.cavitschools.com
SUMMARY:Hairstyling and Massage Saturday
DESCRIPTION:
URL:https://www.cavitschools.com/event/hairstyling-saturday-4
END:VEVENT
BEGIN:VEVENT
DTSTART;VALUE=DATE:20240924
DTEND;VALUE=DATE:20240925
DTSTAMP:20260422T043738
CREATED:20240826T211619Z
LAST-MODIFIED:20240826T211619Z
UID:10000055-1727136000-1727222399@www.cavitschools.com
SUMMARY:CTSO Meeting
DESCRIPTION:
URL:https://www.cavitschools.com/event/ctso-meeting-2
END:VEVENT
BEGIN:VEVENT
DTSTART;VALUE=DATE:20240924
DTEND;VALUE=DATE:20240925
DTSTAMP:20260422T043738
CREATED:20240920T211339Z
LAST-MODIFIED:20240920T211339Z
UID:10000074-1727136000-1727222399@www.cavitschools.com
SUMMARY:Career Display Gallery Walk
DESCRIPTION:
URL:https://www.cavitschools.com/event/career-display-gallery-walk
END:VEVENT
BEGIN:VEVENT
DTSTART;VALUE=DATE:20240925
DTEND;VALUE=DATE:20240926
DTSTAMP:20260422T043738
CREATED:20240920T211418Z
LAST-MODIFIED:20240920T211418Z
UID:10000075-1727222400-1727308799@www.cavitschools.com
SUMMARY:Counselor Inservice
DESCRIPTION:
URL:https://www.cavitschools.com/event/counselor-inservice
END:VEVENT
BEGIN:VEVENT
DTSTART;VALUE=DATE:20240927
DTEND;VALUE=DATE:20240928
DTSTAMP:20260422T043738
CREATED:20240730T173718Z
LAST-MODIFIED:20240730T173718Z
UID:10000018-1727395200-1727481599@www.cavitschools.com
SUMMARY:CollegeCon
DESCRIPTION:
URL:https://www.cavitschools.com/event/collegecon
END:VEVENT
END:VCALENDAR