BEGIN:VCALENDAR
VERSION:2.0
PRODID:-//CAVIT - ECPv6.15.17.1//NONSGML v1.0//EN
CALSCALE:GREGORIAN
METHOD:PUBLISH
X-ORIGINAL-URL:https://www.cavitschools.com
X-WR-CALDESC:Events for CAVIT
REFRESH-INTERVAL;VALUE=DURATION:PT1H
X-Robots-Tag:noindex
X-PUBLISHED-TTL:PT1H
BEGIN:VTIMEZONE
TZID:America/Phoenix
BEGIN:STANDARD
TZOFFSETFROM:-0700
TZOFFSETTO:-0700
TZNAME:MST
DTSTART:20230101T000000
END:STANDARD
END:VTIMEZONE
BEGIN:VEVENT
DTSTART;VALUE=DATE:20241125
DTEND;VALUE=DATE:20241130
DTSTAMP:20260422T030337
CREATED:20240730T174003Z
LAST-MODIFIED:20241101T133102Z
UID:10000027-1732492800-1732924799@www.cavitschools.com
SUMMARY:Thanksgiving Break - No School
DESCRIPTION:
URL:https://www.cavitschools.com/event/thanksgiving-break
END:VEVENT
END:VCALENDAR