BEGIN:VCALENDAR
VERSION:2.0
PRODID:-//CAVIT - ECPv6.15.17.1//NONSGML v1.0//EN
CALSCALE:GREGORIAN
METHOD:PUBLISH
X-ORIGINAL-URL:https://www.cavitschools.com
X-WR-CALDESC:Events for CAVIT
REFRESH-INTERVAL;VALUE=DURATION:PT1H
X-Robots-Tag:noindex
X-PUBLISHED-TTL:PT1H
BEGIN:VTIMEZONE
TZID:America/Phoenix
BEGIN:STANDARD
TZOFFSETFROM:-0700
TZOFFSETTO:-0700
TZNAME:MST
DTSTART:20230101T000000
END:STANDARD
END:VTIMEZONE
BEGIN:VEVENT
DTSTART;VALUE=DATE:20241030
DTEND;VALUE=DATE:20241031
DTSTAMP:20260422T030325
CREATED:20240920T211514Z
LAST-MODIFIED:20240920T211514Z
UID:10000077-1730246400-1730332799@www.cavitschools.com
SUMMARY:PBHS/STFHS Recruiting
DESCRIPTION:
URL:https://www.cavitschools.com/event/pbhs-stfhs-recruiting
END:VEVENT
END:VCALENDAR