BEGIN:VCALENDAR
VERSION:2.0
PRODID:-//CAVIT - ECPv6.15.17.1//NONSGML v1.0//EN
CALSCALE:GREGORIAN
METHOD:PUBLISH
X-ORIGINAL-URL:https://www.cavitschools.com
X-WR-CALDESC:Events for CAVIT
REFRESH-INTERVAL;VALUE=DURATION:PT1H
X-Robots-Tag:noindex
X-PUBLISHED-TTL:PT1H
BEGIN:VTIMEZONE
TZID:America/Phoenix
BEGIN:STANDARD
TZOFFSETFROM:-0700
TZOFFSETTO:-0700
TZNAME:MST
DTSTART:20230101T000000
END:STANDARD
END:VTIMEZONE
BEGIN:VEVENT
DTSTART;VALUE=DATE:20241022
DTEND;VALUE=DATE:20241023
DTSTAMP:20260422T043741
CREATED:20241003T013549Z
LAST-MODIFIED:20241003T013549Z
UID:10000114-1729555200-1729641599@www.cavitschools.com
SUMMARY:Classes Resume
DESCRIPTION:
URL:https://www.cavitschools.com/event/classes-resume-2
END:VEVENT
BEGIN:VEVENT
DTSTART;VALUE=DATE:20241022
DTEND;VALUE=DATE:20241023
DTSTAMP:20260422T043741
CREATED:20241003T013741Z
LAST-MODIFIED:20241003T013827Z
UID:10000115-1729555200-1729641599@www.cavitschools.com
SUMMARY:1st Quarter Awards Assembly
DESCRIPTION:
URL:https://www.cavitschools.com/event/first-quarter-awards-assembly
END:VEVENT
END:VCALENDAR