BEGIN:VCALENDAR
VERSION:2.0
PRODID:-//CAVIT - ECPv6.15.17.1//NONSGML v1.0//EN
CALSCALE:GREGORIAN
METHOD:PUBLISH
X-WR-CALNAME:CAVIT
X-ORIGINAL-URL:https://www.cavitschools.com
X-WR-CALDESC:Events for CAVIT
REFRESH-INTERVAL;VALUE=DURATION:PT1H
X-Robots-Tag:noindex
X-PUBLISHED-TTL:PT1H
BEGIN:VTIMEZONE
TZID:America/Phoenix
BEGIN:STANDARD
TZOFFSETFROM:-0700
TZOFFSETTO:-0700
TZNAME:MST
DTSTART:20230101T000000
END:STANDARD
END:VTIMEZONE
BEGIN:VEVENT
DTSTART;VALUE=DATE:20241004
DTEND;VALUE=DATE:20241005
DTSTAMP:20260422T043559
CREATED:20240730T173748Z
LAST-MODIFIED:20240730T173748Z
UID:10000020-1728000000-1728086399@www.cavitschools.com
SUMMARY:End of 1st Quarter
DESCRIPTION:
URL:https://www.cavitschools.com/event/end-of-1st-quarter
END:VEVENT
END:VCALENDAR