BEGIN:VCALENDAR
VERSION:2.0
PRODID:-//CAVIT - ECPv6.15.17.1//NONSGML v1.0//EN
CALSCALE:GREGORIAN
METHOD:PUBLISH
X-ORIGINAL-URL:https://www.cavitschools.com
X-WR-CALDESC:Events for CAVIT
REFRESH-INTERVAL;VALUE=DURATION:PT1H
X-Robots-Tag:noindex
X-PUBLISHED-TTL:PT1H
BEGIN:VTIMEZONE
TZID:America/Phoenix
BEGIN:STANDARD
TZOFFSETFROM:-0700
TZOFFSETTO:-0700
TZNAME:MST
DTSTART:20230101T000000
END:STANDARD
END:VTIMEZONE
BEGIN:VEVENT
DTSTART;VALUE=DATE:20240802
DTEND;VALUE=DATE:20240803
DTSTAMP:20260422T093120
CREATED:20240730T173547Z
LAST-MODIFIED:20240730T173547Z
UID:10000012-1722556800-1722643199@www.cavitschools.com
SUMMARY:CAVIT Gotta Have It
DESCRIPTION:
URL:https://www.cavitschools.com/event/cavit-gotta-have-it
END:VEVENT
BEGIN:VEVENT
DTSTART;TZID=America/Phoenix:20240802T080000
DTEND;TZID=America/Phoenix:20240802T170000
DTSTAMP:20260422T093120
CREATED:20240715T232600Z
LAST-MODIFIED:20240715T232600Z
UID:10000006-1722585600-1722618000@www.cavitschools.com
SUMMARY:Event 6
DESCRIPTION:This Event has a description
URL:https://www.cavitschools.com/event/event-6
END:VEVENT
END:VCALENDAR